BEGIN:VCALENDAR
VERSION:2.0
PRODID:-//Squarespace Inc/Squarespace 6//v6//EN
BEGIN:VEVENT
UID:598753184c0dbf14606aa5e2@squarespace.com
DTSTAMP:20170806T174436Z
DTSTART:20170821T190000Z
DTEND:20170821T200000Z
SUMMARY:New Moon Meditation - Total Eclipse
GEO:53.943423;-8.090498
LOCATION:Soul Space\, Bypass Road\, Carrick-on-Shannon\, Ireland
END:VEVENT
END:VCALENDAR
