BEGIN:VCALENDAR
VERSION:2.0
PRODID:-//Squarespace Inc/Squarespace 6//v6//EN
BEGIN:VEVENT
UID:57dec0e8b8a79bb3c45094ab@squarespace.com
DTSTAMP:20160918T163206Z
DTSTART:20160925T154500Z
DTEND:20160925T171500Z
SUMMARY:Sound Gong Bath
END:VEVENT
END:VCALENDAR
