BEGIN:VCALENDAR
VERSION:2.0
PRODID:-//Squarespace Inc/Squarespace 6//v6//EN
BEGIN:VEVENT
UID:57da8d8603596e21e4299300@squarespace.com
DTSTAMP:20170806T173337Z
DTSTART:20170819T140000Z
DTEND:20170819T160000Z
SUMMARY:Aerial Yoga Intro Workshop
END:VEVENT
END:VCALENDAR
