BEGIN:VCALENDAR
VERSION:2.0
PRODID:-//Squarespace Inc/Squarespace 6//v6//EN
BEGIN:VEVENT
UID:55c1366ee4b006a05d13990f@squarespace.com
DTSTAMP:20160211T100803Z
DTSTART:20160326T093000Z
DTEND:20160327T163000Z
SUMMARY:BIRA Yoga Workshop
END:VEVENT
END:VCALENDAR
